BEGIN:VCALENDAR
VERSION:2.0
PRODID:-//Tayyibah - ECPv6.15.20//NONSGML v1.0//EN
CALSCALE:GREGORIAN
METHOD:PUBLISH
X-WR-CALNAME:Tayyibah
X-ORIGINAL-URL:https://www.tayyibah.org.uk
X-WR-CALDESC:Events for Tayyibah
REFRESH-INTERVAL;VALUE=DURATION:PT1H
X-Robots-Tag:noindex
X-PUBLISHED-TTL:PT1H
BEGIN:VTIMEZONE
TZID:UTC
BEGIN:STANDARD
TZOFFSETFROM:+0000
TZOFFSETTO:+0000
TZNAME:UTC
DTSTART:20250101T000000
END:STANDARD
END:VTIMEZONE
BEGIN:VEVENT
DTSTART;VALUE=DATE:20260504
DTEND;VALUE=DATE:20260505
DTSTAMP:20260422T102400
CREATED:20250909T082817Z
LAST-MODIFIED:20250909T082817Z
UID:10651-1777852800-1777939199@www.tayyibah.org.uk
SUMMARY:Bank Holiday
DESCRIPTION:
URL:https://www.tayyibah.org.uk/event/bank-holiday-3/
CATEGORIES:Holiday
END:VEVENT
BEGIN:VEVENT
DTSTART;TZID=UTC:20260511T090000
DTEND;TZID=UTC:20260511T104500
DTSTAMP:20260422T102400
CREATED:20260421T082544Z
LAST-MODIFIED:20260421T083518Z
UID:11244-1778490000-1778496300@www.tayyibah.org.uk
SUMMARY:1ET0: ENGLISH LITERATURE P1 EXAM
DESCRIPTION:
URL:https://www.tayyibah.org.uk/event/1et0-english-literature-1/
LOCATION:Tayyibah Girls School\, 88 Filey Avenue\, N16 6JJ
ATTACH;FMTTYPE=image/jpeg:https://www.tayyibah.org.uk/wp-content/uploads/2024/02/download-2.jpg
END:VEVENT
BEGIN:VEVENT
DTSTART;TZID=UTC:20260512T090000
DTEND;TZID=UTC:20260512T104500
DTSTAMP:20260422T102400
CREATED:20260421T082657Z
LAST-MODIFIED:20260421T082657Z
UID:11246-1778576400-1778582700@www.tayyibah.org.uk
SUMMARY:1RA0: RELIGIOUS STUDIES 1C - EXAM
DESCRIPTION:
URL:https://www.tayyibah.org.uk/event/1ra0-religious-studies-1c-exam/
LOCATION:Tayyibah Girls School\, 88 Filey Avenue\, N16 6JJ
CATEGORIES:Exams
ATTACH;FMTTYPE=image/jpeg:https://www.tayyibah.org.uk/wp-content/uploads/2024/02/download-1.jpg
END:VEVENT
BEGIN:VEVENT
DTSTART;TZID=UTC:20260512T130000
DTEND;TZID=UTC:20260512T144500
DTSTAMP:20260422T102400
CREATED:20260421T082804Z
LAST-MODIFIED:20260421T082804Z
UID:11248-1778590800-1778597100@www.tayyibah.org.uk
SUMMARY:1BI0: BIOLOGY 1H 1SC0 or COMBINED SCIENCE 1BH EXAM
DESCRIPTION:
URL:https://www.tayyibah.org.uk/event/1bi0-biology-1h-1sc0-or-combined-science-1bh-exam/
LOCATION:Tayyibah Girls School\, 88 Filey Avenue\, N16 6JJ
CATEGORIES:Exams
ATTACH;FMTTYPE=image/png:https://www.tayyibah.org.uk/wp-content/uploads/2024/02/download-1.png
END:VEVENT
BEGIN:VEVENT
DTSTART;TZID=UTC:20260513T130000
DTEND;TZID=UTC:20260513T143000
DTSTAMP:20260422T102400
CREATED:20260421T082935Z
LAST-MODIFIED:20260421T082935Z
UID:11250-1778677200-1778682600@www.tayyibah.org.uk
SUMMARY:1CP2: COMPUTER SCIENCE P1 EXAM
DESCRIPTION:
URL:https://www.tayyibah.org.uk/event/1cp2-computer-science-p1-exam/
LOCATION:Tayyibah Girls School\, 88 Filey Avenue\, N16 6JJ
CATEGORIES:Exams
ATTACH;FMTTYPE=image/png:https://www.tayyibah.org.uk/wp-content/uploads/2024/02/images-1.png
END:VEVENT
BEGIN:VEVENT
DTSTART;TZID=UTC:20260514T090000
DTEND;TZID=UTC:20260514T103000
DTSTAMP:20260422T102400
CREATED:20260421T083116Z
LAST-MODIFIED:20260421T083116Z
UID:11252-1778749200-1778754600@www.tayyibah.org.uk
SUMMARY:1MA1: MATHEMATICS PAPER 1F/1H
DESCRIPTION:
URL:https://www.tayyibah.org.uk/event/1ma1-mathematics-paper-1f-1h/
LOCATION:Tayyibah Girls School\, 88 Filey Avenue\, N16 6JJ
CATEGORIES:Exams
ATTACH;FMTTYPE=image/jpeg:https://www.tayyibah.org.uk/wp-content/uploads/2024/02/download-5.jpg
END:VEVENT
BEGIN:VEVENT
DTSTART;TZID=UTC:20260515T090000
DTEND;TZID=UTC:20260515T102000
DTSTAMP:20260422T102400
CREATED:20260421T083311Z
LAST-MODIFIED:20260421T083311Z
UID:11254-1778835600-1778840400@www.tayyibah.org.uk
SUMMARY:1HI0: HISTORY (11) EXAM
DESCRIPTION:
URL:https://www.tayyibah.org.uk/event/1hi0-history-11-exam/
LOCATION:Tayyibah Girls School\, 88 Filey Avenue\, N16 6JJ
CATEGORIES:Exams
ATTACH;FMTTYPE=image/jpeg:https://www.tayyibah.org.uk/wp-content/uploads/2024/02/download-3.jpg
END:VEVENT
BEGIN:VEVENT
DTSTART;TZID=UTC:20260518T090000
DTEND;TZID=UTC:20260518T104500
DTSTAMP:20260422T102400
CREATED:20260421T083446Z
LAST-MODIFIED:20260421T083446Z
UID:11257-1779094800-1779101100@www.tayyibah.org.uk
SUMMARY:1CH0: CHEMISTRY 1H 1SC0 or COMBINED SCIENCE 1CH Exam
DESCRIPTION:
URL:https://www.tayyibah.org.uk/event/1ch0-chemistry-1h-1sc0-or-combined-science-1ch-exam/
CATEGORIES:Exams
ATTACH;FMTTYPE=image/png:https://www.tayyibah.org.uk/wp-content/uploads/2024/02/download-2.png
END:VEVENT
BEGIN:VEVENT
DTSTART;TZID=UTC:20260519T090000
DTEND;TZID=UTC:20260519T111500
DTSTAMP:20260422T102400
CREATED:20260421T083706Z
LAST-MODIFIED:20260421T083706Z
UID:11260-1779181200-1779189300@www.tayyibah.org.uk
SUMMARY:1ET0: ENGLISH LITERATURE PAPER 2 EXAM
DESCRIPTION:
URL:https://www.tayyibah.org.uk/event/1et0-english-literature-paper-2-exam/
LOCATION:Tayyibah Girls School\, 88 Filey Avenue\, N16 6JJ
CATEGORIES:Exams
ATTACH;FMTTYPE=image/jpeg:https://www.tayyibah.org.uk/wp-content/uploads/2024/02/download-2.jpg
END:VEVENT
BEGIN:VEVENT
DTSTART;TZID=UTC:20260519T130000
DTEND;TZID=UTC:20260519T150000
DTSTAMP:20260422T102400
CREATED:20260421T083902Z
LAST-MODIFIED:20260421T083902Z
UID:11262-1779195600-1779202800@www.tayyibah.org.uk
SUMMARY:1CP2: COMPUTER SCIENCE 2 (PRACTICAL)
DESCRIPTION:
URL:https://www.tayyibah.org.uk/event/1cp2-computer-science-2-practical/
LOCATION:Tayyibah Girls School\, 88 Filey Avenue\, N16 6JJ
CATEGORIES:Exams
ATTACH;FMTTYPE=image/png:https://www.tayyibah.org.uk/wp-content/uploads/2024/02/images-1.png
END:VEVENT
BEGIN:VEVENT
DTSTART;TZID=UTC:20260520T130000
DTEND;TZID=UTC:20260520T135000
DTSTAMP:20260422T102400
CREATED:20260421T084026Z
LAST-MODIFIED:20260421T084026Z
UID:11264-1779282000-1779285000@www.tayyibah.org.uk
SUMMARY:1RA0: RELIGIOUS STUDIES PAPER 2A
DESCRIPTION:
URL:https://www.tayyibah.org.uk/event/1ra0-religious-studies-paper-2a/
LOCATION:Tayyibah Girls School\, 88 Filey Avenue\, N16 6JJ
CATEGORIES:Exams
ATTACH;FMTTYPE=image/jpeg:https://www.tayyibah.org.uk/wp-content/uploads/2024/02/download-1.jpg
END:VEVENT
BEGIN:VEVENT
DTSTART;TZID=UTC:20260521T090000
DTEND;TZID=UTC:20260521T104500
DTSTAMP:20260422T102400
CREATED:20260421T084321Z
LAST-MODIFIED:20260421T084321Z
UID:11267-1779354000-1779360300@www.tayyibah.org.uk
SUMMARY:1EN0: ENGLISH LANG PAPER 1
DESCRIPTION:
URL:https://www.tayyibah.org.uk/event/1en0-english-lang-paper-1/
LOCATION:Tayyibah Girls School\, 88 Filey Avenue\, N16 6JJ
CATEGORIES:Exams
END:VEVENT
BEGIN:VEVENT
DTSTART;TZID=UTC:20260522T090000
DTEND;TZID=UTC:20260522T110000
DTSTAMP:20260422T102400
CREATED:20260421T084521Z
LAST-MODIFIED:20260421T084811Z
UID:11269-1779440400-1779447600@www.tayyibah.org.uk
SUMMARY:1AA0: ARABIC PAPER 1
DESCRIPTION:
URL:https://www.tayyibah.org.uk/event/1aa0-arabic-paper-1/
LOCATION:Tayyibah Girls School\, 88 Filey Avenue\, N16 6JJ
CATEGORIES:Exams
ATTACH;FMTTYPE=image/jpeg:https://www.tayyibah.org.uk/wp-content/uploads/2026/04/download.jpg
END:VEVENT
BEGIN:VEVENT
DTSTART;VALUE=DATE:20260525
DTEND;VALUE=DATE:20260530
DTSTAMP:20260422T102400
CREATED:20250909T082854Z
LAST-MODIFIED:20250909T082854Z
UID:10653-1779667200-1780099199@www.tayyibah.org.uk
SUMMARY:Summer Half Term Holiday
DESCRIPTION:
URL:https://www.tayyibah.org.uk/event/summer-half-term-holiday-4/
CATEGORIES:Holiday
END:VEVENT
BEGIN:VEVENT
DTSTART;TZID=UTC:20260601T080000
DTEND;TZID=UTC:20260601T080000
DTSTAMP:20260422T102400
CREATED:20250909T082937Z
LAST-MODIFIED:20250909T082937Z
UID:10655-1780300800-1780300800@www.tayyibah.org.uk
SUMMARY:Pupils Return Back to School
DESCRIPTION:
URL:https://www.tayyibah.org.uk/event/pupils-return-back-to-school-18/
END:VEVENT
BEGIN:VEVENT
DTSTART;TZID=UTC:20260601T130000
DTEND;TZID=UTC:20260601T135000
DTSTAMP:20260422T102400
CREATED:20260421T084948Z
LAST-MODIFIED:20260421T084958Z
UID:11272-1780318800-1780321800@www.tayyibah.org.uk
SUMMARY:1RA0: RELIGIOUS STUDIES PAPER 3C
DESCRIPTION:
URL:https://www.tayyibah.org.uk/event/1ra0-religious-studies-paper-3c/
LOCATION:Tayyibah Girls School\, 88 Filey Avenue\, N16 6JJ
CATEGORIES:Exams
ATTACH;FMTTYPE=image/jpeg:https://www.tayyibah.org.uk/wp-content/uploads/2024/02/download-1.jpg
END:VEVENT
BEGIN:VEVENT
DTSTART;TZID=UTC:20260602T090000
DTEND;TZID=UTC:20260602T104500
DTSTAMP:20260422T102400
CREATED:20260421T085203Z
LAST-MODIFIED:20260421T120843Z
UID:11274-1780390800-1780397100@www.tayyibah.org.uk
SUMMARY:1PH0: PHYSICS 1H 1SC0 or COMBINED SCIENCE 1PH EXAM
DESCRIPTION:
URL:https://www.tayyibah.org.uk/event/1ph0-physics-1h-1sc0-or-combines-science-1ph-exam/
LOCATION:Tayyibah Girls School\, 88 Filey Avenue\, N16 6JJ
CATEGORIES:Exams
ATTACH;FMTTYPE=image/png:https://www.tayyibah.org.uk/wp-content/uploads/2024/02/download-1-1.png
END:VEVENT
BEGIN:VEVENT
DTSTART;TZID=UTC:20260603T090000
DTEND;TZID=UTC:20260603T103000
DTSTAMP:20260422T102400
CREATED:20260421T120708Z
LAST-MODIFIED:20260421T120708Z
UID:11278-1780477200-1780482600@www.tayyibah.org.uk
SUMMARY:1MA1: MATHEMATICS 2F/2H
DESCRIPTION:
URL:https://www.tayyibah.org.uk/event/1ma1-mathematics-2f-2h-2/
LOCATION:Tayyibah Girls School\, 88 Filey Avenue\, N16 6JJ
CATEGORIES:Exams
ATTACH;FMTTYPE=image/jpeg:https://www.tayyibah.org.uk/wp-content/uploads/2024/02/download-5.jpg
END:VEVENT
BEGIN:VEVENT
DTSTART;TZID=UTC:20260603T130000
DTEND;TZID=UTC:20260603T153000
DTSTAMP:20260422T102400
CREATED:20260421T120611Z
LAST-MODIFIED:20260421T120611Z
UID:11276-1780491600-1780500600@www.tayyibah.org.uk
SUMMARY:ARABIC PAPER 2
DESCRIPTION:
URL:https://www.tayyibah.org.uk/event/arabic-paper-2/
LOCATION:Tayyibah Girls School\, 88 Filey Avenue\, N16 6JJ
CATEGORIES:Exams
ATTACH;FMTTYPE=image/jpeg:https://www.tayyibah.org.uk/wp-content/uploads/2026/04/download.jpg
END:VEVENT
BEGIN:VEVENT
DTSTART;TZID=UTC:20260604T090000
DTEND;TZID=UTC:20260604T104500
DTSTAMP:20260422T102400
CREATED:20260421T120815Z
LAST-MODIFIED:20260421T120815Z
UID:11280-1780563600-1780569900@www.tayyibah.org.uk
SUMMARY:1HI0: HISTORY 2R
DESCRIPTION:
URL:https://www.tayyibah.org.uk/event/1hi0-history-2r/
LOCATION:Tayyibah Girls School\, 88 Filey Avenue\, N16 6JJ
CATEGORIES:Exams
ATTACH;FMTTYPE=image/jpeg:https://www.tayyibah.org.uk/wp-content/uploads/2024/02/download-3.jpg
END:VEVENT
BEGIN:VEVENT
DTSTART;TZID=UTC:20260605T090000
DTEND;TZID=UTC:20260605T110500
DTSTAMP:20260422T102400
CREATED:20260421T120945Z
LAST-MODIFIED:20260421T120945Z
UID:11283-1780650000-1780657500@www.tayyibah.org.uk
SUMMARY:1EN0: ENGLISH LANG PAPER 2
DESCRIPTION:
URL:https://www.tayyibah.org.uk/event/1en0-english-lang-paper-2/
LOCATION:Tayyibah Girls School\, 88 Filey Avenue\, N16 6JJ
CATEGORIES:Exams
ATTACH;FMTTYPE=image/jpeg:https://www.tayyibah.org.uk/wp-content/uploads/2024/02/download-6.jpg
END:VEVENT
BEGIN:VEVENT
DTSTART;TZID=UTC:20260608T090000
DTEND;TZID=UTC:20260608T104500
DTSTAMP:20260422T102400
CREATED:20260421T121147Z
LAST-MODIFIED:20260421T121147Z
UID:11285-1780909200-1780915500@www.tayyibah.org.uk
SUMMARY:1BI0: BIOLOGY 2H or 1SC0 COMBINED SCIENCE 2BF/H
DESCRIPTION:
URL:https://www.tayyibah.org.uk/event/1bi0-biology-2h-or-1sc0-combined-science-2bf-h/
CATEGORIES:Exams
ATTACH;FMTTYPE=image/png:https://www.tayyibah.org.uk/wp-content/uploads/2024/02/download-1.png
END:VEVENT
BEGIN:VEVENT
DTSTART;TZID=UTC:20260609T130000
DTEND;TZID=UTC:20260609T143000
DTSTAMP:20260422T102400
CREATED:20260421T134447Z
LAST-MODIFIED:20260421T134447Z
UID:11287-1781010000-1781015400@www.tayyibah.org.uk
SUMMARY:1HI0: HISTORY Paper 2
DESCRIPTION:
URL:https://www.tayyibah.org.uk/event/1hi0-history-paper-2/
LOCATION:Tayyibah Girls School\, 88 Filey Avenue\, N16 6JJ
CATEGORIES:Exams
ATTACH;FMTTYPE=image/jpeg:https://www.tayyibah.org.uk/wp-content/uploads/2024/02/download-3.jpg
END:VEVENT
BEGIN:VEVENT
DTSTART;TZID=UTC:20260610T090000
DTEND;TZID=UTC:20260610T103000
DTSTAMP:20260422T102400
CREATED:20260421T134540Z
LAST-MODIFIED:20260421T134540Z
UID:11289-1781082000-1781087400@www.tayyibah.org.uk
SUMMARY:1MA1: MATHEMATICS PAPER 3F/3H
DESCRIPTION:
URL:https://www.tayyibah.org.uk/event/1ma1-mathematics-paper-3f-3h/
LOCATION:Tayyibah Girls School\, 88 Filey Avenue\, N16 6JJ
CATEGORIES:Exams
ATTACH;FMTTYPE=image/jpeg:https://www.tayyibah.org.uk/wp-content/uploads/2024/02/download-5.jpg
END:VEVENT
BEGIN:VEVENT
DTSTART;TZID=UTC:20260612T090000
DTEND;TZID=UTC:20260612T104500
DTSTAMP:20260422T102400
CREATED:20260421T134746Z
LAST-MODIFIED:20260421T134746Z
UID:11291-1781254800-1781261100@www.tayyibah.org.uk
SUMMARY:1CH0: CHEMISTRY 2H 1SC0 or COMBINED SCIENCE 2CF/H
DESCRIPTION:
URL:https://www.tayyibah.org.uk/event/1ch0-chemistry-2h-1sc0-or-combined-science-2cf-h/
LOCATION:Tayyibah Girls School\, 88 Filey Avenue\, N16 6JJ
CATEGORIES:Exams
ATTACH;FMTTYPE=image/png:https://www.tayyibah.org.uk/wp-content/uploads/2024/02/download-2.png
END:VEVENT
BEGIN:VEVENT
DTSTART;TZID=UTC:20260615T090000
DTEND;TZID=UTC:20260615T104500
DTSTAMP:20260422T102400
CREATED:20260421T134927Z
LAST-MODIFIED:20260421T134927Z
UID:11293-1781514000-1781520300@www.tayyibah.org.uk
SUMMARY:1PH0: PHYSICS 2H 1SC0 or COMBINED SCIENCE 2PF/H
DESCRIPTION:
URL:https://www.tayyibah.org.uk/event/1ph0-physics-2h-1sc0-or-combined-science-2pf-h/
CATEGORIES:Exams
ATTACH;FMTTYPE=image/png:https://www.tayyibah.org.uk/wp-content/uploads/2024/02/download-1-1.png
END:VEVENT
BEGIN:VEVENT
DTSTART;VALUE=DATE:20260717
DTEND;VALUE=DATE:20260901
DTSTAMP:20260422T102400
CREATED:20250909T083047Z
LAST-MODIFIED:20250909T083054Z
UID:10657-1784246400-1788220799@www.tayyibah.org.uk
SUMMARY:End of Academic Year - Summer Holidays
DESCRIPTION:
URL:https://www.tayyibah.org.uk/event/end-of-academic-year-summer-holidays/
CATEGORIES:Holiday
ATTACH;FMTTYPE=image/png:https://www.tayyibah.org.uk/wp-content/uploads/2023/12/minimalist-blue-beach-Welcome-summer-Poster.png
END:VEVENT
BEGIN:VEVENT
DTSTART;TZID=UTC:20260901T080000
DTEND;TZID=UTC:20260901T143000
DTSTAMP:20260422T102400
CREATED:20250909T083124Z
LAST-MODIFIED:20250909T083124Z
UID:10659-1788249600-1788273000@www.tayyibah.org.uk
SUMMARY:INSET Day
DESCRIPTION:
URL:https://www.tayyibah.org.uk/event/inset-day-11/
LOCATION:Tayyibah Girls School\, 88 Filey Avenue\, N16 6JJ
CATEGORIES:Inset Day
END:VEVENT
BEGIN:VEVENT
DTSTART;TZID=UTC:20260902T080000
DTEND;TZID=UTC:20260902T080000
DTSTAMP:20260422T102400
CREATED:20250909T083157Z
LAST-MODIFIED:20250909T083157Z
UID:10661-1788336000-1788336000@www.tayyibah.org.uk
SUMMARY:Pupils Return Back to School
DESCRIPTION:
URL:https://www.tayyibah.org.uk/event/pupils-return-back-to-school-19/
END:VEVENT
END:VCALENDAR