BEGIN:VCALENDAR
VERSION:2.0
PRODID:-//Tayyibah - ECPv6.15.20//NONSGML v1.0//EN
CALSCALE:GREGORIAN
METHOD:PUBLISH
X-WR-CALNAME:Tayyibah
X-ORIGINAL-URL:https://www.tayyibah.org.uk
X-WR-CALDESC:Events for Tayyibah
REFRESH-INTERVAL;VALUE=DURATION:PT1H
X-Robots-Tag:noindex
X-PUBLISHED-TTL:PT1H
BEGIN:VTIMEZONE
TZID:UTC
BEGIN:STANDARD
TZOFFSETFROM:+0000
TZOFFSETTO:+0000
TZNAME:UTC
DTSTART:20200101T000000
END:STANDARD
END:VTIMEZONE
BEGIN:VEVENT
DTSTART;TZID=UTC:20211217T120000
DTEND;TZID=UTC:20211217T120000
DTSTAMP:20260422T121934
CREATED:20211022T082241Z
LAST-MODIFIED:20211022T082241Z
UID:7396-1639742400-1639742400@www.tayyibah.org.uk
SUMMARY:End of Term 1
DESCRIPTION:
URL:https://www.tayyibah.org.uk/event/end-of-term-1/
LOCATION:Tayyibah Girls School\, 88 Filey Avenue\, N16 6JJ
END:VEVENT
BEGIN:VEVENT
DTSTART;TZID=UTC:20211101T080000
DTEND;TZID=UTC:20211101T080000
DTSTAMP:20260422T121934
CREATED:20211022T073535Z
LAST-MODIFIED:20211022T073535Z
UID:7392-1635753600-1635753600@www.tayyibah.org.uk
SUMMARY:Pupil return School
DESCRIPTION:
URL:https://www.tayyibah.org.uk/event/pupil-return-school/
LOCATION:Tayyibah Girls School\, 88 Filey Avenue\, N16 6JJ
END:VEVENT
BEGIN:VEVENT
DTSTART;TZID=UTC:20211023T080000
DTEND;TZID=UTC:20211031T170000
DTSTAMP:20260422T121934
CREATED:20211022T073029Z
LAST-MODIFIED:20211022T073029Z
UID:7389-1634976000-1635699600@www.tayyibah.org.uk
SUMMARY:Half Term Holiday
DESCRIPTION:
URL:https://www.tayyibah.org.uk/event/half-term-holiday/
LOCATION:Tayyibah Girls School\, 88 Filey Avenue\, N16 6JJ
END:VEVENT
END:VCALENDAR